BEGIN:VCALENDAR
VERSION:2.0
PRODID:-//Sabre//Sabre VObject 4.5.8//EN
CALSCALE:GREGORIAN
BEGIN:VEVENT
UID:sabre-vobject-dfd0cf41-5afb-4ea5-b3d6-c65e4365452f
DTSTAMP:20260423T001922Z
SUMMARY:Rosenkranz
DESCRIPTION:https://pfarreien-bistum-augsburg.df-preview.de/rosenkranz_id17
 34913
DTSTART;TZID=Europe/Berlin:20260505T173000
DURATION:PT30M
LOCATION:St. Vitus\, Augsburger Str. 32\, 86462 Langweid
END:VEVENT
END:VCALENDAR
