BEGIN:VCALENDAR
VERSION:2.0
PRODID:-//Sabre//Sabre VObject 4.5.8//EN
CALSCALE:GREGORIAN
BEGIN:VEVENT
UID:sabre-vobject-a9e1c004-0de6-42cc-a0df-af4128be5b29
DTSTAMP:20260421T022703Z
SUMMARY:Heilige Messe
DESCRIPTION:https://pfarreien-bistum-augsburg.df-preview.de/heilige-messe_i
 d1734794
DTSTART;TZID=Europe/Berlin:20260416T090000
DURATION:PT30M
LOCATION:St. Georg
END:VEVENT
END:VCALENDAR
