BEGIN:VCALENDAR
VERSION:2.0
PRODID:-//Sabre//Sabre VObject 4.5.8//EN
CALSCALE:GREGORIAN
BEGIN:VEVENT
UID:sabre-vobject-33ced259-d7c9-40f5-ada7-2b142f5f7448
DTSTAMP:20260424T100948Z
SUMMARY:Eucharistiefeier
DESCRIPTION:https://pfarreien-bistum-augsburg.df-preview.de/eucharistiefeie
 r_id1734499
DTSTART;TZID=Europe/Berlin:20260426T091500
DURATION:PT30M
LOCATION:St. Georg und Michael
END:VEVENT
END:VCALENDAR
