BEGIN:VCALENDAR
VERSION:2.0
PRODID:-//Sabre//Sabre VObject 4.5.8//EN
CALSCALE:GREGORIAN
BEGIN:VEVENT
UID:sabre-vobject-252d7102-aeb1-4b47-ad06-8073743b752a
DTSTAMP:20260424T024128Z
SUMMARY:Möglichkeit zum Empfang des Bußsakraments
DESCRIPTION:https://pfarreien-bistum-augsburg.df-preview.de/moeglichkeit-zu
 m-empfang-des-busssakraments_id1734474
DTSTART;TZID=Europe/Berlin:20260425T171500
DURATION:PT30M
LOCATION:St. Georg und Michael
END:VEVENT
END:VCALENDAR
