BEGIN:VCALENDAR
VERSION:2.0
PRODID:-//Sabre//Sabre VObject 4.5.8//EN
CALSCALE:GREGORIAN
BEGIN:VEVENT
UID:sabre-vobject-01246423-6856-4e6e-9c00-6b34b40d1863
DTSTAMP:20260420T120007Z
SUMMARY:Laudes in Maria unterm Kreuz
DESCRIPTION:https://pfarreien-bistum-augsburg.df-preview.de/laudes-in-maria
 -unterm-kreuz_id1734452
DTSTART;TZID=Europe/Berlin:20260415T080000
DURATION:PT30M
LOCATION:St. Ulrich
END:VEVENT
END:VCALENDAR
