BEGIN:VCALENDAR
VERSION:2.0
PRODID:-//Sabre//Sabre VObject 4.5.8//EN
CALSCALE:GREGORIAN
BEGIN:VEVENT
UID:sabre-vobject-88464245-067c-416e-9203-e998a49d77b4
DTSTAMP:20260424T163434Z
SUMMARY:Abendlob
DESCRIPTION:https://pfarreien-bistum-augsburg.df-preview.de/abendlob_id1734
 407
DTSTART;TZID=Europe/Berlin:20260428T183000
DURATION:PT30M
LOCATION:St. Georg und Michael
END:VEVENT
END:VCALENDAR
