BEGIN:VCALENDAR
VERSION:2.0
PRODID:-//Sabre//Sabre VObject 4.5.8//EN
CALSCALE:GREGORIAN
BEGIN:VEVENT
UID:sabre-vobject-19eb956f-5cdf-4457-b06b-e70ac6bdaf35
DTSTAMP:20260420T140414Z
SUMMARY:Abendlob
DESCRIPTION:https://pfarreien-bistum-augsburg.df-preview.de/abendlob_id1734
 308
DTSTART;TZID=Europe/Berlin:20260416T193000
DURATION:PT30M
LOCATION:St. Nikolaus
END:VEVENT
END:VCALENDAR
