BEGIN:VCALENDAR
VERSION:2.0
PRODID:-//Sabre//Sabre VObject 4.5.8//EN
CALSCALE:GREGORIAN
BEGIN:VEVENT
UID:sabre-vobject-c2430dca-d7da-4123-96ea-9b184b638eec
DTSTAMP:20260424T131852Z
SUMMARY:Wortgottesdienst im Haus Vinzenz
DESCRIPTION:https://pfarreien-bistum-augsburg.df-preview.de/wortgottesdiens
 t-im-haus-vinzenz_id1733439
DTSTART;TZID=Europe/Berlin:20260506T093000
DURATION:PT30M
LOCATION:Herz Mariä
END:VEVENT
END:VCALENDAR
