BEGIN:VCALENDAR
VERSION:2.0
PRODID:-//Sabre//Sabre VObject 4.5.8//EN
CALSCALE:GREGORIAN
BEGIN:VEVENT
UID:sabre-vobject-aa4efa4f-c27b-4900-b7d3-b472d61904e2
DTSTAMP:20260423T133803Z
SUMMARY:Hl. Messe mit Gebetsbitte für
DESCRIPTION:https://pfarreien-bistum-augsburg.df-preview.de/hl-messe-mit-ge
 betsbitte-fuer_id1733273
DTSTART;TZID=Europe/Berlin:20260421T191500
DURATION:PT30M
LOCATION:St. Stephan
END:VEVENT
END:VCALENDAR
