BEGIN:VCALENDAR
VERSION:2.0
PRODID:-//Sabre//Sabre VObject 4.5.8//EN
CALSCALE:GREGORIAN
BEGIN:VEVENT
UID:sabre-vobject-48c01d9c-9a71-45fd-8f4d-2ba9f101c468
DTSTAMP:20260420T170407Z
SUMMARY:Hl. Messe
DESCRIPTION:https://pfarreien-bistum-augsburg.df-preview.de/hl-messe_id1732
 385
DTSTART;TZID=Europe/Berlin:20260415T163000
DURATION:PT30M
LOCATION:St. Jakobus maj.\, St.-Jakobs-Platz\, 86316 Friedberg
END:VEVENT
END:VCALENDAR
