BEGIN:VCALENDAR
VERSION:2.0
PRODID:-//Sabre//Sabre VObject 4.5.8//EN
CALSCALE:GREGORIAN
BEGIN:VEVENT
UID:sabre-vobject-c7763b30-9ff4-46c1-9f7b-e2c4c9eb3430
DTSTAMP:20260420T182134Z
SUMMARY:Gruppenstunde der Kommunionkinder
DESCRIPTION:https://pfarreien-bistum-augsburg.df-preview.de/gruppenstunde-d
 er-kommunionkinder_id1732293
DTSTART;TZID=Europe/Berlin:20260424T150000
DURATION:PT30M
LOCATION:Maria Immaculata
END:VEVENT
END:VCALENDAR
