BEGIN:VCALENDAR
VERSION:2.0
PRODID:-//Sabre//Sabre VObject 4.5.8//EN
CALSCALE:GREGORIAN
BEGIN:VEVENT
UID:sabre-vobject-22fa62d5-7e40-42f1-8efb-cab885fceb5f
DTSTAMP:20260420T180555Z
SUMMARY:Markus-Bittgang zum Kreuz am Wald
DESCRIPTION:https://pfarreien-bistum-augsburg.df-preview.de/markus-bittgang
 -zum-kreuz-am-wald_id1732218
DTSTART;TZID=Europe/Berlin:20260508T183000
DURATION:PT30M
LOCATION:St. Markus
END:VEVENT
END:VCALENDAR
