BEGIN:VCALENDAR
VERSION:2.0
PRODID:-//Sabre//Sabre VObject 4.5.8//EN
CALSCALE:GREGORIAN
BEGIN:VEVENT
UID:sabre-vobject-f9823b6e-91fd-438c-b9ee-1be647f8d76d
DTSTAMP:20260422T141730Z
SUMMARY:Rosenkranz
DESCRIPTION:https://pfarreien-bistum-augsburg.df-preview.de/rosenkranz_id17
 32173
DTSTART;TZID=Europe/Berlin:20260508T190000
DURATION:PT30M
LOCATION:St. Johannes Baptist\, Heimpersdorf 11\, 86674 Baar
END:VEVENT
END:VCALENDAR
