BEGIN:VCALENDAR
VERSION:2.0
PRODID:-//Sabre//Sabre VObject 4.5.8//EN
CALSCALE:GREGORIAN
BEGIN:VEVENT
UID:sabre-vobject-a1d9c57c-4f5a-4ad0-8a49-8fb54394de54
DTSTAMP:20260423T154530Z
SUMMARY:Trauung von Franziska Mögn und Maximilian Schupfner
DESCRIPTION:https://pfarreien-bistum-augsburg.df-preview.de/trauung-von-fra
 nziska-moegn-und-maximilian-schupfner_id1732163
DTSTART;TZID=Europe/Berlin:20260502T120000
DURATION:PT30M
LOCATION:St. Peter und Paul
END:VEVENT
END:VCALENDAR
