BEGIN:VCALENDAR
VERSION:2.0
PRODID:-//Sabre//Sabre VObject 4.5.8//EN
CALSCALE:GREGORIAN
BEGIN:VEVENT
UID:sabre-vobject-93f341b1-1fea-4078-af58-bd7078b94116
DTSTAMP:20260422T095954Z
SUMMARY:Sühnerosenkranz
DESCRIPTION:https://pfarreien-bistum-augsburg.df-preview.de/suehnerosenkran
 z_id1732153
DTSTART;TZID=Europe/Berlin:20260503T130000
DURATION:PT30M
LOCATION:Heilig Kreuz
END:VEVENT
END:VCALENDAR
