BEGIN:VCALENDAR
VERSION:2.0
PRODID:-//Sabre//Sabre VObject 4.5.8//EN
CALSCALE:GREGORIAN
BEGIN:VEVENT
UID:sabre-vobject-faecef8f-d596-4b53-b4c5-f20e41edbdb1
DTSTAMP:20260422T192512Z
SUMMARY:Hl. Amt
DESCRIPTION:https://pfarreien-bistum-augsburg.df-preview.de/hl-amt_id173186
 6
DTSTART;TZID=Europe/Berlin:20260503T090000
DURATION:PT30M
LOCATION:St. Blasius
END:VEVENT
END:VCALENDAR
