BEGIN:VCALENDAR
VERSION:2.0
PRODID:-//Sabre//Sabre VObject 4.5.8//EN
CALSCALE:GREGORIAN
BEGIN:VEVENT
UID:sabre-vobject-0766dee1-4b0e-420c-a34c-33560f8e1081
DTSTAMP:20260421T064312Z
SUMMARY:Hl. Messe - Feier der Erstkommunion\n
DESCRIPTION:https://pfarreien-bistum-augsburg.df-preview.de/hl-messe-feier-
 der-erstkommunion_id1731126
DTSTART;TZID=Europe/Berlin:20260426T103000
DURATION:PT30M
LOCATION:St. Blasius
END:VEVENT
END:VCALENDAR
