BEGIN:VCALENDAR
VERSION:2.0
PRODID:-//Sabre//Sabre VObject 4.5.8//EN
CALSCALE:GREGORIAN
BEGIN:VEVENT
UID:sabre-vobject-182adf1d-6e1e-4f96-8bca-d50379422ed4
DTSTAMP:20260419T124539Z
SUMMARY:Bittgang nach Bechtris
DESCRIPTION:https://pfarreien-bistum-augsburg.df-preview.de/bittgang-nach-b
 echtris_id1730896
DTSTART;TZID=Europe/Berlin:20260513T193000
DURATION:PT30M
LOCATION:St. Antonius Einsiedler
END:VEVENT
END:VCALENDAR
