BEGIN:VCALENDAR
VERSION:2.0
PRODID:-//Sabre//Sabre VObject 4.5.8//EN
CALSCALE:GREGORIAN
BEGIN:VEVENT
UID:sabre-vobject-30bc5ec0-f157-47d2-af8d-1e1d35a04a5a
DTSTAMP:20260425T225558Z
SUMMARY:Hl. Messe - Feier der Erstkommunion\n
DESCRIPTION:https://pfarreien-bistum-augsburg.df-preview.de/hl-messe-feier-
 der-erstkommunion_id1730845
DTSTART;TZID=Europe/Berlin:20260501T103000
DURATION:PT30M
LOCATION:St. Martin
END:VEVENT
END:VCALENDAR
