BEGIN:VCALENDAR
VERSION:2.0
PRODID:-//Sabre//Sabre VObject 4.5.8//EN
CALSCALE:GREGORIAN
BEGIN:VEVENT
UID:sabre-vobject-c85e0637-fe8c-4938-adfa-73e70913b49d
DTSTAMP:20260425T162738Z
SUMMARY:Eucharistische Anbetung
DESCRIPTION:https://pfarreien-bistum-augsburg.df-preview.de/eucharistische-
 anbetung_id1730674
DTSTART;TZID=Europe/Berlin:20260501T071500
DURATION:PT30M
LOCATION:St. Martin
END:VEVENT
END:VCALENDAR
