BEGIN:VCALENDAR
VERSION:2.0
PRODID:-//Sabre//Sabre VObject 4.5.8//EN
CALSCALE:GREGORIAN
BEGIN:VEVENT
UID:sabre-vobject-82d2a35c-f013-4831-922b-ca9f5ddd4bb6
DTSTAMP:20260421T183616Z
SUMMARY:Beichtgelegenheit bis 18.00
DESCRIPTION:https://pfarreien-bistum-augsburg.df-preview.de/beichtgelegenhe
 it-bis-18-00_id1730609
DTSTART;TZID=Europe/Berlin:20260424T170000
DURATION:PT30M
LOCATION:St. Martin
END:VEVENT
END:VCALENDAR
