BEGIN:VCALENDAR
VERSION:2.0
PRODID:-//Sabre//Sabre VObject 4.5.8//EN
CALSCALE:GREGORIAN
BEGIN:VEVENT
UID:sabre-vobject-5b61f687-723c-4d0b-8b70-eccb084bae50
DTSTAMP:20260421T223142Z
SUMMARY:Laudes (kirchliches Morgengebet)
DESCRIPTION:https://pfarreien-bistum-augsburg.df-preview.de/laudes-kirchlic
 hes-morgengebet_id1730409
DTSTART;TZID=Europe/Berlin:20260428T060000
DURATION:PT30M
LOCATION:St. Vitus\, Augsburger Str. 32\, 86462 Langweid
END:VEVENT
END:VCALENDAR
