BEGIN:VCALENDAR
VERSION:2.0
PRODID:-//Sabre//Sabre VObject 4.5.8//EN
CALSCALE:GREGORIAN
BEGIN:VEVENT
UID:sabre-vobject-fb3ffa13-ad80-4583-b4c3-2a1da1d72839
DTSTAMP:20260420T103651Z
SUMMARY:Eucharistische Anbetung
DESCRIPTION:https://pfarreien-bistum-augsburg.df-preview.de/eucharistische-
 anbetung_id1730360
DTSTART;TZID=Europe/Berlin:20260501T150000
DURATION:PT30M
LOCATION:St. Peter und Paul
END:VEVENT
END:VCALENDAR
