BEGIN:VCALENDAR
VERSION:2.0
PRODID:-//Sabre//Sabre VObject 4.5.8//EN
CALSCALE:GREGORIAN
BEGIN:VEVENT
UID:sabre-vobject-a774485f-2234-4930-9230-587b6f4884bf
DTSTAMP:20260422T072131Z
SUMMARY:Rosenkranz für persönliche Anliegen
DESCRIPTION:https://pfarreien-bistum-augsburg.df-preview.de/rosenkranz-fuer
 -persoenliche-anliegen_id1730320
DTSTART;TZID=Europe/Berlin:20260422T170000
DURATION:PT30M
LOCATION:St. Michael
END:VEVENT
END:VCALENDAR
