BEGIN:VCALENDAR
VERSION:2.0
PRODID:-//Sabre//Sabre VObject 4.5.8//EN
CALSCALE:GREGORIAN
BEGIN:VEVENT
UID:sabre-vobject-f9091349-7e39-4546-a572-69401d658836
DTSTAMP:20260421T121056Z
SUMMARY:Laudes
DESCRIPTION:https://pfarreien-bistum-augsburg.df-preview.de/laudes_id172963
 6
DTSTART;TZID=Europe/Berlin:20260423T071500
DURATION:PT30M
LOCATION:St. Markus
END:VEVENT
END:VCALENDAR
