BEGIN:VCALENDAR
VERSION:2.0
PRODID:-//Sabre//Sabre VObject 4.5.8//EN
CALSCALE:GREGORIAN
BEGIN:VEVENT
UID:sabre-vobject-69cd5c16-835d-4ccd-b73d-055ca6207deb
DTSTAMP:20260421T062050Z
SUMMARY:Im Pfarrheim: Vortrag von Markus Weiland "Paulus und die Philipper"
DESCRIPTION:https://pfarreien-bistum-augsburg.df-preview.de/im-pfarrheim-vo
 rtrag-von-markus-weiland-paulus-und-die-philipper_id1729634
DTSTART;TZID=Europe/Berlin:20260421T200000
DURATION:PT30M
LOCATION:St. Markus
END:VEVENT
END:VCALENDAR
