BEGIN:VCALENDAR
VERSION:2.0
PRODID:-//Sabre//Sabre VObject 4.5.8//EN
CALSCALE:GREGORIAN
BEGIN:VEVENT
UID:sabre-vobject-3e40c0c8-89dd-4564-b262-4fa484b31207
DTSTAMP:20260422T022719Z
SUMMARY:Rosenkranz für den Frieden in der Welt
DESCRIPTION:https://pfarreien-bistum-augsburg.df-preview.de/rosenkranz-fuer
 -den-frieden-in-der-welt_id1729103
DTSTART;TZID=Europe/Berlin:20260418T183000
DURATION:PT30M
LOCATION:St. Stephan
END:VEVENT
END:VCALENDAR
