BEGIN:VCALENDAR
VERSION:2.0
PRODID:-//Sabre//Sabre VObject 4.5.8//EN
CALSCALE:GREGORIAN
BEGIN:VEVENT
UID:sabre-vobject-e70e560e-2c28-48a2-b8b9-2b7768b80ebd
DTSTAMP:20260423T222735Z
SUMMARY:Sonntägliche Eucharistiefeier
DESCRIPTION:https://pfarreien-bistum-augsburg.df-preview.de/sonntaegliche-e
 ucharistiefeier_id1728923
DTSTART;TZID=Europe/Berlin:20260425T183000
DURATION:PT30M
LOCATION:St. Johannes Baptist\, Kirchstraße 9\, 82211 Breitbrunn
END:VEVENT
END:VCALENDAR
