BEGIN:VCALENDAR
VERSION:2.0
PRODID:-//Sabre//Sabre VObject 4.5.8//EN
CALSCALE:GREGORIAN
BEGIN:VEVENT
UID:sabre-vobject-81c99c65-3ca1-4611-91c5-b9817b595e08
DTSTAMP:20260423T182038Z
SUMMARY:Erstes feierliches Marienlob der PG\, anschl. Lichterprozession zur
  Lourdes-Grotte
DESCRIPTION:https://pfarreien-bistum-augsburg.df-preview.de/erstes-feierlic
 hes-marienlob-der-pg-anschl-lichterprozession-zur-lourdes-grotte_id1728914
DTSTART;TZID=Europe/Berlin:20260501T193000
DURATION:PT30M
LOCATION:St. Johannes Baptist\, Kirchstraße 9\, 82211 Breitbrunn
END:VEVENT
END:VCALENDAR
