BEGIN:VCALENDAR
VERSION:2.0
PRODID:-//Sabre//Sabre VObject 4.5.8//EN
CALSCALE:GREGORIAN
BEGIN:VEVENT
UID:sabre-vobject-3161228f-8fac-4713-9a2b-4b9f58ae6948
DTSTAMP:20260423T100435Z
SUMMARY:russ.-orth. Heilige Liturgie
DESCRIPTION:https://pfarreien-bistum-augsburg.df-preview.de/russ-orth-heili
 ge-liturgie_id1728215
DTSTART;TZID=Europe/Berlin:20260502T100000
DURATION:PT30M
LOCATION:St. Johannes der Täufer
END:VEVENT
END:VCALENDAR
