BEGIN:VCALENDAR
VERSION:2.0
PRODID:-//Sabre//Sabre VObject 4.5.8//EN
CALSCALE:GREGORIAN
BEGIN:VEVENT
UID:sabre-vobject-f2da662e-3726-4178-a0a2-d4a8f1a4925e
DTSTAMP:20260423T210422Z
SUMMARY:Messfeier (Winni Lau)
DESCRIPTION:https://pfarreien-bistum-augsburg.df-preview.de/messfeier-winni
 -lau_id1728207
DTSTART;TZID=Europe/Berlin:20260426T110000
DURATION:PT30M
LOCATION:St. Johannes der Täufer
END:VEVENT
END:VCALENDAR
