BEGIN:VCALENDAR
VERSION:2.0
PRODID:-//Sabre//Sabre VObject 4.5.8//EN
CALSCALE:GREGORIAN
BEGIN:VEVENT
UID:sabre-vobject-3f2d2a14-c339-47ec-bdd4-794dcf55e27a
DTSTAMP:20260424T103610Z
SUMMARY:Abendlob
DESCRIPTION:https://pfarreien-bistum-augsburg.df-preview.de/abendlob_id1728
 169
DTSTART;TZID=Europe/Berlin:20260421T183000
DURATION:PT30M
LOCATION:St. Georg und Michael
END:VEVENT
END:VCALENDAR
