BEGIN:VCALENDAR
VERSION:2.0
PRODID:-//Sabre//Sabre VObject 4.5.8//EN
CALSCALE:GREGORIAN
BEGIN:VEVENT
UID:sabre-vobject-18b31420-4a8c-408c-8eb9-aafbfb7bb21e
DTSTAMP:20260425T183710Z
SUMMARY:Festgottesdienst
DESCRIPTION:https://pfarreien-bistum-augsburg.df-preview.de/festgottesdiens
 t_id1728160
DTSTART;TZID=Europe/Berlin:20260501T103000
DURATION:PT30M
LOCATION:Maria Hilf
END:VEVENT
END:VCALENDAR
