BEGIN:VCALENDAR
VERSION:2.0
PRODID:-//Sabre//Sabre VObject 4.5.8//EN
CALSCALE:GREGORIAN
BEGIN:VEVENT
UID:sabre-vobject-62f0202c-56f3-4136-aba4-a245a9a9457c
DTSTAMP:20260425T162421Z
SUMMARY:Hl. Messe\, anschl. stille Anbetung bis Donnerstag\, 08.00 Uhr (im 
 Kloster)
DESCRIPTION:https://pfarreien-bistum-augsburg.df-preview.de/hl-messe-anschl
 -stille-anbetung-bis-donnerstag-08-00-uhr-im-kloster_id1728158
DTSTART;TZID=Europe/Berlin:20260429T090000
DURATION:PT30M
LOCATION:Maria Hilf
END:VEVENT
END:VCALENDAR
