BEGIN:VCALENDAR
VERSION:2.0
PRODID:-//Sabre//Sabre VObject 4.5.8//EN
CALSCALE:GREGORIAN
BEGIN:VEVENT
UID:sabre-vobject-05320e63-a08b-4505-9bfd-9671b8f9cb39
DTSTAMP:20260421T110043Z
SUMMARY:Morgenlob
DESCRIPTION:https://pfarreien-bistum-augsburg.df-preview.de/morgenlob_id172
 8149
DTSTART;TZID=Europe/Berlin:20260425T073000
DURATION:PT30M
LOCATION:Maria Hilf
END:VEVENT
END:VCALENDAR
