BEGIN:VCALENDAR
VERSION:2.0
PRODID:-//Sabre//Sabre VObject 4.5.8//EN
CALSCALE:GREGORIAN
BEGIN:VEVENT
UID:sabre-vobject-2a3b5303-5481-4d6a-be0a-cf5e7166370d
DTSTAMP:20260423T043305Z
SUMMARY:3. feierl. Maiandacht der Pfarreiengemeinschaft
DESCRIPTION:https://pfarreien-bistum-augsburg.df-preview.de/3-feierl-maiand
 acht-der-pfarreiengemeinschaft_id1728138
DTSTART;TZID=Europe/Berlin:20260524T190000
DURATION:PT30M
LOCATION:St. Christophorus
END:VEVENT
END:VCALENDAR
