BEGIN:VCALENDAR
VERSION:2.0
PRODID:-//Sabre//Sabre VObject 4.5.8//EN
CALSCALE:GREGORIAN
BEGIN:VEVENT
UID:sabre-vobject-4e305e26-823d-4151-953b-1ffa0687aa37
DTSTAMP:20260420T170428Z
SUMMARY:Hl. Messe\, anschließend Frühstück im Pfarrheim
DESCRIPTION:https://pfarreien-bistum-augsburg.df-preview.de/hl-messe-anschl
 iessend-fruehstueck-im-pfarrheim_id1728136
DTSTART;TZID=Europe/Berlin:20260422T090000
DURATION:PT30M
LOCATION:St. Stephan
END:VEVENT
END:VCALENDAR
