BEGIN:VCALENDAR
VERSION:2.0
PRODID:-//Sabre//Sabre VObject 4.5.8//EN
CALSCALE:GREGORIAN
BEGIN:VEVENT
UID:sabre-vobject-f018a57c-b8bf-4626-a8a1-69de0ea8f92e
DTSTAMP:20260423T063905Z
SUMMARY:St. Markus: Messfeier für unsere Wohltäter der Pfarrei
DESCRIPTION:https://pfarreien-bistum-augsburg.df-preview.de/st-markus-messf
 eier-fuer-unsere-wohltaeter-der-pfarrei_id1728114
DTSTART;TZID=Europe/Berlin:20260506T170000
DURATION:PT30M
LOCATION:St. Johannes der Täufer
END:VEVENT
END:VCALENDAR
