BEGIN:VCALENDAR
VERSION:2.0
PRODID:-//Sabre//Sabre VObject 4.5.8//EN
CALSCALE:GREGORIAN
BEGIN:VEVENT
UID:sabre-vobject-b7ffc19c-26bb-4b41-a198-c2f589899491
DTSTAMP:20260420T135722Z
SUMMARY:Krankenkommunion
DESCRIPTION:https://pfarreien-bistum-augsburg.df-preview.de/krankenkommunio
 n_id1728083
DTSTART;TZID=Europe/Berlin:20260417T104500
DURATION:PT30M
LOCATION:St. Georg\, Hauptstraße 10\, 87745 Eppishausen Mörgen
END:VEVENT
END:VCALENDAR
