BEGIN:VCALENDAR
VERSION:2.0
PRODID:-//Sabre//Sabre VObject 4.5.8//EN
CALSCALE:GREGORIAN
BEGIN:VEVENT
UID:sabre-vobject-6a84dede-a19e-462f-8021-ace35eeee587
DTSTAMP:20260423T080326Z
SUMMARY:Messfeier - entfällt ! -
DESCRIPTION:https://pfarreien-bistum-augsburg.df-preview.de/messfeier-entfa
 ellt_id1728060
DTSTART;TZID=Europe/Berlin:20260529T093000
DURATION:PT30M
LOCATION:St. Georg
END:VEVENT
END:VCALENDAR
