BEGIN:VCALENDAR
VERSION:2.0
PRODID:-//Sabre//Sabre VObject 4.5.8//EN
CALSCALE:GREGORIAN
BEGIN:VEVENT
UID:sabre-vobject-ade16051-d96f-4e07-a2fc-a367ec6f7575
DTSTAMP:20260423T165717Z
SUMMARY:Rosenkranz - entfällt ! -
DESCRIPTION:https://pfarreien-bistum-augsburg.df-preview.de/rosenkranz-entf
 aellt_id1728055
DTSTART;TZID=Europe/Berlin:20260527T180000
DURATION:PT30M
LOCATION:St. Georg
END:VEVENT
END:VCALENDAR
