BEGIN:VCALENDAR
VERSION:2.0
PRODID:-//Sabre//Sabre VObject 4.5.8//EN
CALSCALE:GREGORIAN
BEGIN:VEVENT
UID:sabre-vobject-3a661168-1368-4f9f-8bf9-67b49687e2f4
DTSTAMP:20260424T104431Z
SUMMARY:Stille Anbetung
DESCRIPTION:https://pfarreien-bistum-augsburg.df-preview.de/stille-anbetung
 _id1728046
DTSTART;TZID=Europe/Berlin:20260522T090000
DURATION:PT30M
LOCATION:St. Georg
END:VEVENT
END:VCALENDAR
