BEGIN:VCALENDAR
VERSION:2.0
PRODID:-//Sabre//Sabre VObject 4.5.8//EN
CALSCALE:GREGORIAN
BEGIN:VEVENT
UID:sabre-vobject-a32fe2cf-eddd-417e-91e8-96cc674cc457
DTSTAMP:20260421T003440Z
SUMMARY:Krankenkommunion
DESCRIPTION:https://pfarreien-bistum-augsburg.df-preview.de/krankenkommunio
 n_id1728043
DTSTART;TZID=Europe/Berlin:20260417T110000
DURATION:PT30M
LOCATION:St. Johannes Baptist\, Schulstraße 9\, 87745 Eppishausen
END:VEVENT
END:VCALENDAR
