BEGIN:VCALENDAR
VERSION:2.0
PRODID:-//Sabre//Sabre VObject 4.5.8//EN
CALSCALE:GREGORIAN
BEGIN:VEVENT
UID:sabre-vobject-6ab84f3c-4224-4a1a-9966-bb8344747d07
DTSTAMP:20260424T213020Z
SUMMARY:Rosenkranz
DESCRIPTION:https://pfarreien-bistum-augsburg.df-preview.de/rosenkranz_id17
 28033
DTSTART;TZID=Europe/Berlin:20260517T085500
DURATION:PT30M
LOCATION:St. Georg
END:VEVENT
END:VCALENDAR
