BEGIN:VCALENDAR
VERSION:2.0
PRODID:-//Sabre//Sabre VObject 4.5.8//EN
CALSCALE:GREGORIAN
BEGIN:VEVENT
UID:sabre-vobject-e40a7dfd-0da8-4c97-8249-5d3aeb97a3df
DTSTAMP:20260421T171520Z
SUMMARY:Rosenkranz entfällt
DESCRIPTION:https://pfarreien-bistum-augsburg.df-preview.de/rosenkranz-entf
 aellt_id1728000
DTSTART;TZID=Europe/Berlin:20260501T183000
DURATION:PT30M
LOCATION:St. Michael\, Kirchpl. \, 86415 Mering
END:VEVENT
END:VCALENDAR
