BEGIN:VCALENDAR
VERSION:2.0
PRODID:-//Sabre//Sabre VObject 4.5.8//EN
CALSCALE:GREGORIAN
BEGIN:VEVENT
UID:sabre-vobject-5db3e483-fd8d-4079-a458-6d7d77ab77db
DTSTAMP:20260425T224030Z
SUMMARY:Messfeier
DESCRIPTION:https://pfarreien-bistum-augsburg.df-preview.de/messfeier_id172
 7987
DTSTART;TZID=Europe/Berlin:20260508T093000
DURATION:PT30M
LOCATION:St. Georg
END:VEVENT
END:VCALENDAR
