BEGIN:VCALENDAR
VERSION:2.0
PRODID:-//Sabre//Sabre VObject 4.5.8//EN
CALSCALE:GREGORIAN
BEGIN:VEVENT
UID:sabre-vobject-031d7580-5b05-4326-af7a-3ba59d018362
DTSTAMP:20260425T170850Z
SUMMARY:St. Antonius: Messfeier mit den Kommunionkinder\, anschl. Ausflug
DESCRIPTION:https://pfarreien-bistum-augsburg.df-preview.de/st-antonius-mes
 sfeier-mit-den-kommunionkinder-anschl-ausflug_id1727982
DTSTART;TZID=Europe/Berlin:20260506T093000
DURATION:PT30M
LOCATION:St. Georg
END:VEVENT
END:VCALENDAR
