BEGIN:VCALENDAR
VERSION:2.0
PRODID:-//Sabre//Sabre VObject 4.5.8//EN
CALSCALE:GREGORIAN
BEGIN:VEVENT
UID:sabre-vobject-c9d46c7e-1501-4072-b13a-01fab7a4ec8c
DTSTAMP:20260422T003022Z
SUMMARY:Zeit mit Jesus - Musik\, Anbetung\, Stille
DESCRIPTION:https://pfarreien-bistum-augsburg.df-preview.de/zeit-mit-jesus-
 musik-anbetung-stille_id1727959
DTSTART;TZID=Europe/Berlin:20260430T193000
DURATION:PT30M
LOCATION:St. Michael\, Kirchpl. \, 86415 Mering
END:VEVENT
END:VCALENDAR
