BEGIN:VCALENDAR
VERSION:2.0
PRODID:-//Sabre//Sabre VObject 4.5.8//EN
CALSCALE:GREGORIAN
BEGIN:VEVENT
UID:sabre-vobject-601e5f0b-20aa-424e-8e83-dae4997f6757
DTSTAMP:20260424T182752Z
SUMMARY:Seniorenheim: evang. Gottesdienst
DESCRIPTION:https://pfarreien-bistum-augsburg.df-preview.de/seniorenheim-ev
 ang-gottesdienst_id1727938
DTSTART;TZID=Europe/Berlin:20260430T160000
DURATION:PT30M
LOCATION:St. Georg
END:VEVENT
END:VCALENDAR
