BEGIN:VCALENDAR
VERSION:2.0
PRODID:-//Sabre//Sabre VObject 4.5.8//EN
CALSCALE:GREGORIAN
BEGIN:VEVENT
UID:sabre-vobject-998fe67e-2559-45bb-8654-fc5be2246027
DTSTAMP:20260424T182412Z
SUMMARY:Messfeier musikalische Gestaltung durch das "Duo verbum dei" Herbri
 ch aus Steinheim/BW
DESCRIPTION:https://pfarreien-bistum-augsburg.df-preview.de/messfeier-musik
 alische-gestaltung-durch-das-duo-verbum-dei-herbrich-aus-steinheim-bw_id17
 27936
DTSTART;TZID=Europe/Berlin:20260429T183000
DURATION:PT30M
LOCATION:St. Georg
END:VEVENT
END:VCALENDAR
